BEGIN:VCALENDAR
VERSION:2.0
PRODID:-//ChamberMaster//Event Calendar 2.0//EN
METHOD:PUBLISH
X-PUBLISHED-TTL:P3D
REFRESH-INTERVAL:P3D
CALSCALE:GREGORIAN
BEGIN:VEVENT
DTSTART:20190630T010000Z
DTEND:20190630T040000Z
X-MICROSOFT-CDO-ALLDAYEVENT:FALSE
SUMMARY:2 and 1/2 Comics
DESCRIPTION:Comedy Team 2 and 1/2 Comics\, featuring popular area comedians Bob Jay and Annivar\, with special guests\, will headline an extraordinary evening of of comedy\, fun\, and some surprises\, with all proceeds benefiting Trinity Services.  \n\n\n\nBob Jay\, also know as The Man of 999 Voices\, is an amazing impressionist/comedian who has performed at clubs and colleges around the country including Zanies\, the Improv\, the Funny Firm\, Who's On First\, the Comedy Womb\, Senese's Barrel of Laughs and at events for PAWS\, UCP Chicago\, and Cat-Man-Do.\n\n\n\nAnnivar is a former ABC-Chicago TV producer who has been doing stand up since 1987. He has performed at clubs and colleges throughout the country including the Improv\, the Funny Firm\, Zanies\, Who's On First and the Comedy Womb.  He has also written for shows like "The Tom Dreesen Show" and "The John Powers Show." He has performed at charity events for UCP Chicago\, Divine Savior Church's 40th Anniversary Dinner\, Cat-Man-Do and Noah's Arc for Autism. He was a semifinalist in the Doral National Comedy Search and is also an award-winning lyricist.  \n\n\n\nHeadquartered in New Lenox\, Trinity Services provides supports to children and adults with developmental disabilities and adults with mental illness in the Chicagoland area. Visit www.trinityservices.org to learn more.
X-ALT-DESC;FMTTYPE=text/html:<span style="color:rgb(119\, 119\, 119)\; font-family:helvetica\,arial\,sans-serif\; font-size:12px">Comedy Team 2 and 1/2 Comics\, featuring popular area comedians Bob Jay and Annivar\, with special guests\, will headline an extraordinary evening of of comedy\, fun\, and some surprises\, with all proceeds benefiting Trinity Services. &nbsp\;</span><br />\n<br />\n<span style="color:rgb(119\, 119\, 119)\; font-family:helvetica\,arial\,sans-serif\; font-size:12px">Bob Jay\, also know as The Man of 999 Voices\, is an amazing impressionist/comedian who has performed at clubs and colleges around the country including Zanies\, the Improv\, the Funny Firm\, Who&#39\;s On First\, the Comedy Womb\, Senese&#39\;s Barrel of Laughs and at events for PAWS\, UCP Chicago\, and Cat-Man-Do.</span><br />\n<br />\n<span style="color:rgb(119\, 119\, 119)\; font-family:helvetica\,arial\,sans-serif\; font-size:12px">Annivar is a former ABC-Chicago TV producer who has been doing stand up since 1987. He has performed at clubs and colleges throughout the country including the Improv\, the Funny Firm\, Zanies\, Who&#39\;s On First and the Comedy Womb. &nbsp\;He has also written for shows like &quot\;The Tom Dreesen Show&quot\; and &quot\;The John Powers Show.&quot\; He has performed at charity events for UCP Chicago\, Divine Savior Church&#39\;s 40th Anniversary Dinner\, Cat-Man-Do and Noah&#39\;s Arc for Autism. He was a semifinalist in the Doral National Comedy Search and is also an award-winning lyricist. &nbsp\;</span><br />\n<br />\n<span style="color:rgb(119\, 119\, 119)\; font-family:helvetica\,arial\,sans-serif\; font-size:12px">Headquartered in New Lenox\, Trinity Services provides supports to children and adults with developmental disabilities and adults with mental illness in the Chicagoland area. Visit www.trinityservices.org to learn more.</span>
LOCATION:ROXY Special Event Venue 1017 S. State St. Lockport\, IL 60441
UID:e.2207.5581
SEQUENCE:3
DTSTAMP:20260421T112010Z
URL:http://members.jolietchamber.com/events/details/2-and-1-2-comics-5581
END:VEVENT

END:VCALENDAR
