BEGIN:VCALENDAR
VERSION:2.0
PRODID:-//ChamberMaster//Event Calendar 2.0//EN
METHOD:PUBLISH
X-PUBLISHED-TTL:P3D
REFRESH-INTERVAL:P3D
CALSCALE:GREGORIAN
BEGIN:VEVENT
DTSTART:20181030T223000Z
DTEND:20181031T014500Z
X-MICROSOFT-CDO-ALLDAYEVENT:FALSE
SUMMARY:2018 AABA Annual Event Dinner Oct 30th
DESCRIPTION:1st Celebration & Annual Dinner\n\n \n\nTuesday\, October 30th\n\nJacob Henry Victorian Ballroom\n\n15 S. Richards Street | Joliet\n\n$35\n\n5:30 Cocktails\n\n6:00 Dinner\n\n6:30 Procurement Panel Discussion\n\n7:30 Awards Ceremony\n\n \n\nGuest Speaker: Larry Ivory\, President of the Illinois Black Chamber of Commerce\n\n \n\nBusiness of the Year Award - Law Office of Vincent Cornelius\n\nThree Individual "Trailblazer" Awards - Ms. Oriole Powell\, Mr. George L. Tyus\, and Mr. Percy Conway\n\n\n\nSponsorships are available as well
X-ALT-DESC;FMTTYPE=text/html:<div class="text-container galileo-ap-content-editor">\n<div>\n<div><span style="font-size: 14px\; color: rgb(76\, 76\, 76)\; font-family: Tahoma\, Geneva\, sans-serif\;">1st Celebration &amp\; Annual Dinner</span></div>\n\n<div>&nbsp\;</div>\n\n<div><span style="font-size: 14px\; color: rgb(76\, 76\, 76)\; font-family: Tahoma\, Geneva\, sans-serif\;">Tuesday\, October 30th</span></div>\n\n<div><span style="font-size: 14px\; color: rgb(76\, 76\, 76)\; font-family: Tahoma\, Geneva\, sans-serif\;">Jacob Henry Victorian Ballroom</span></div>\n\n<div><span style="font-size: 14px\; color: rgb(76\, 76\, 76)\; font-family: Tahoma\, Geneva\, sans-serif\;">15 S. Richards Street | Joliet</span></div>\n\n<div><span style="font-size: 14px\; color: rgb(76\, 76\, 76)\; font-family: Tahoma\, Geneva\, sans-serif\;">$35</span></div>\n\n<div><span style="font-size: 14px\; color: rgb(76\, 76\, 76)\; font-family: Tahoma\, Geneva\, sans-serif\;">5:30 Cocktails</span></div>\n\n<div><span style="font-size: 14px\; color: rgb(76\, 76\, 76)\; font-family: Tahoma\, Geneva\, sans-serif\;">6:00 Dinner</span></div>\n\n<div><span style="font-size: 14px\; color: rgb(76\, 76\, 76)\; font-family: Tahoma\, Geneva\, sans-serif\;">6:30 Procurement Panel Discussion</span></div>\n\n<div><span style="font-size: 14px\; color: rgb(76\, 76\, 76)\; font-family: Tahoma\, Geneva\, sans-serif\;">7:30 Awards Ceremony</span></div>\n\n<div>&nbsp\;</div>\n\n<div><span style="font-size: 14px\; color: rgb(76\, 76\, 76)\; font-family: Tahoma\, Geneva\, sans-serif\;">Guest Speaker: Larry Ivory\, President of the Illinois Black Chamber of Commerce</span></div>\n\n<div>&nbsp\;</div>\n\n<div><span style="font-size: 14px\; color: rgb(76\, 76\, 76)\; font-family: Tahoma\, Geneva\, sans-serif\;">Business of the Year Award - Law Office of Vincent Cornelius<br />\nThree Individual &quot\;Trailblazer&quot\; Awards - Ms. Oriole Powell\, Mr. George L. Tyus\, and Mr. Percy Conway</span></div>\n\n<div><br />\n<span style="font-size: 14px\; color: rgb(76\, 76\, 76)\; font-family: Tahoma\, Geneva\, sans-serif\;">Sponsorships are available as well</span></div>\n\n<div>&nbsp\;</div>\n</div>\n</div>\n
LOCATION:Jacob Henry Victorian Ballroom 15 S. Richards Street Joliet\, IL.
UID:e.2207.5039
SEQUENCE:3
DTSTAMP:20260424T105312Z
URL:http://members.jolietchamber.com/events/details/2018-aaba-annual-event-dinner-oct-30th-5039
END:VEVENT

END:VCALENDAR
