BEGIN:VCALENDAR
VERSION:2.0
PRODID:-//ChamberMaster//Event Calendar 2.0//EN
METHOD:PUBLISH
X-PUBLISHED-TTL:P3D
REFRESH-INTERVAL:P3D
CALSCALE:GREGORIAN
BEGIN:VEVENT
DTSTART:20180626T220000Z
DTEND:20180627T000000Z
X-MICROSOFT-CDO-ALLDAYEVENT:FALSE
SUMMARY:2018 AABA Mayoral Update
DESCRIPTION:Mayoral update with Joliet Mayor Bob O'Dekirk
X-ALT-DESC;FMTTYPE=text/html:Mayoral update with Joliet Mayor Bob O&#39\;Dekirk&nbsp\;&nbsp\;&nbsp\;&nbsp\;&nbsp\;&nbsp\;&nbsp\;&nbsp\;
LOCATION:The Beacon Club 510 N. Chicago Street Joliet\, IL. 60432
UID:e.2207.4786
SEQUENCE:3
DTSTAMP:20260426T002038Z
URL:http://members.jolietchamber.com/events/details/2018-aaba-mayoral-update-4786
END:VEVENT

END:VCALENDAR
