BEGIN:VCALENDAR
VERSION:2.0
PRODID:-//ChamberMaster//Event Calendar 2.0//EN
METHOD:PUBLISH
X-PUBLISHED-TTL:P3D
REFRESH-INTERVAL:P3D
CALSCALE:GREGORIAN
BEGIN:VEVENT
DTSTART:20181004T164500Z
DTEND:20181004T180000Z
X-MICROSOFT-CDO-ALLDAYEVENT:FALSE
SUMMARY:2018 CWW Lunch October 4th: The Hospital of the Future
DESCRIPTION:Join the Council for Working Women for our October Luncheon hosted at Hollywood Casino. This month's topic will be "The Hospital of the Future: Trends Re-Shaping Care Delivery Today." This program will look at how key trends are reshaping the health industry landscape including disrupters such as the Amazon\, Berkshire-Hathaway\, JP Morgan Chase health venture\, new exclusionary policies of payers like Anthem\, new benefits under Medicare Advantage and new ways in which patients are seeking to receive care. \n\n\n\nOur guest speaker will be Lyndean Brick who is the Founder\, President and CEO of the Advis Group\, a leading consulting firm at the forefront of American Healthcare. \n\n\n\nThis month's Five Minute Speaker will be MorningStar Mission Ministries.
X-ALT-DESC;FMTTYPE=text/html:<span style="font-family: verdana\;"><span style="font-size: 16px\;">Join the <strong>Council for Working Women</strong> for our October Luncheon hosted at Hollywood Casino. This month&#39\;s topic will be &quot\;The Hospital of the Future: Trends Re-Shaping Care Delivery Today.&quot\;&nbsp\;<span style="color: rgb(34\, 34\, 34)\;">This program will look at how key trends are reshaping the health industry landscape including disrupters such as the Amazon\, Berkshire-Hathaway\, JP Morgan Chase health venture\, new exclusionary policies of payers like Anthem\, new benefits under Medicare Advantage and new ways in which patients are seeking to receive care.&nbsp\;<br />\n<br />\nOur guest speaker will be <strong>Lyndean Brick</strong> who is the Founder\, President and CEO of the Advis Group\, a leading consulting firm at the forefront of American Healthcare.&nbsp\;<br />\n<br />\nThis month&#39\;s Five Minute Speaker will be MorningStar Mission Ministries.&nbsp\;</span></span></span>
LOCATION:Hollywood Casino 777 Hollywood Blvd. Joliet\, IL 60436
UID:e.2207.3930
SEQUENCE:3
DTSTAMP:20260424T105511Z
URL:http://members.jolietchamber.com/events/details/2018-cww-lunch-october-4th-3930
END:VEVENT

END:VCALENDAR
