BEGIN:VCALENDAR
VERSION:2.0
PRODID:-//ChamberMaster//Event Calendar 2.0//EN
METHOD:PUBLISH
X-PUBLISHED-TTL:P3D
REFRESH-INTERVAL:P3D
CALSCALE:GREGORIAN
BEGIN:VEVENT
DTSTART:20181204T233000Z
DTEND:20181205T020000Z
X-MICROSOFT-CDO-ALLDAYEVENT:FALSE
SUMMARY:2018 JAYP Annual Dinner Dec 4th
DESCRIPTION:The JAYP invites all Joliet Chamber Members to join us as we celebrate the past year and look forward to another year of success at the Joliet Area Young Professionals Annual Dinner.\n\n\n\nWe will be honoring Mr. Quinn Adamowski and Mr. Greg Peerbolte as the 2018 Young Professionals of the Year.  We will roast our guests of honor featuring three guests to do the roasting: Catherine Adamowski (Wife of Quinn)\, Lauren Peerbolte (Wife of Greg)\, and Chris Regis (City of Joliet).
X-ALT-DESC;FMTTYPE=text/html:<span style="font-size: 14px\;"><span style="font-family: verdana\;"><span style="color: rgb(0\, 0\, 205)\;">The JAYP invites all Joliet Chamber Members to&nbsp\;join us as we celebrate the past year and look forward to another year of success at the Joliet Area Young Professionals Annual Dinner.<br />\n<br />\nWe will be honoring Mr. Quinn Adamowski and Mr. Greg Peerbolte as the 2018 Young Professionals of the Year.&nbsp\; We will roast our guests of honor featuring three guests to do the roasting: Catherine Adamowski (Wife of Quinn)\, Lauren Peerbolte (Wife of Greg)\, and Chris Regis (City of Joliet).</span></span></span>
LOCATION:Holiday Inn & Rock Run Convention Center 1471 Rock Creek Blvd. Joliet\, IL
UID:e.2207.5074
SEQUENCE:3
DTSTAMP:20260425T231807Z
URL:http://members.jolietchamber.com/events/details/2018-jayp-annual-dinner-dec-4th-5074
END:VEVENT

END:VCALENDAR
