BEGIN:VCALENDAR
VERSION:2.0
PRODID:-//ChamberMaster//Event Calendar 2.0//EN
METHOD:PUBLISH
X-PUBLISHED-TTL:P3D
REFRESH-INTERVAL:P3D
CALSCALE:GREGORIAN
BEGIN:VEVENT
DTSTART:20180731T223000Z
DTEND:20180801T000000Z
X-MICROSOFT-CDO-ALLDAYEVENT:FALSE
SUMMARY:2018 JAYP Brews & Views
DESCRIPTION:Join the Joliet Area Young Professionals for a private night at Will County Brewing Company. Enjoy delicious craft beer while getting a peak into the world of our community's various service organizations. Will County Brewing will be opening their facilities to us for the night\, which will allow for time to hear from each of the following service organizations: Cornerstone Services\, Habitat for Humanity\, United Way of Will County\, Boys and Girls Club and the Prison Coalition. Learn new ways to get involved!
X-ALT-DESC;FMTTYPE=text/html:<span style="font-family:verdana\;">Join the<strong> Joliet Area Young Professionals</strong> for a private night at Will County Brewing Company. Enjoy delicious craft beer while getting a peak into the world of our community&#39\;s various service organizations. Will County Brewing will be opening their facilities to us for the night\, which will allow for time to hear from each of the following service organizations: Cornerstone Services\, Habitat for Humanity\, United Way of Will County\, Boys and Girls Club and the Prison Coalition. Learn new ways to get involved!&nbsp\;</span>
LOCATION:Will County Brewing Company 1142 W Jefferson St\, Shorewood\, IL 60404
UID:e.2207.4800
SEQUENCE:3
DTSTAMP:20260425T181506Z
URL:http://members.jolietchamber.com/events/details/2018-jayp-brews-views-4800
END:VEVENT

END:VCALENDAR
