BEGIN:VCALENDAR
VERSION:2.0
PRODID:-//ChamberMaster//Event Calendar 2.0//EN
METHOD:PUBLISH
X-PUBLISHED-TTL:P3D
REFRESH-INTERVAL:P3D
CALSCALE:GREGORIAN
BEGIN:VEVENT
DTSTART:20180913T223000Z
DTEND:20180914T000000Z
X-MICROSOFT-CDO-ALLDAYEVENT:FALSE
SUMMARY:2018 JAYP Casino Tutorial Night Sept 13
DESCRIPTION:Have you ever wondered how to properly gamble at the casino? Do you find yourself wondering the ins and outs of each table game? Then this is the perfect night for you! Join the JAYP for a night out learning (or brushing up your skills) how to master your gambling skills. Blackjack\, roulette\, and craps will be taught by a Harrah's Casino Professional.
X-ALT-DESC;FMTTYPE=text/html:<span style="font-size:14px\;"><span style="font-family:verdana\;">Have you ever wondered how to properly gamble at the casino? Do you find yourself wondering the ins and outs of each table game? Then this is the perfect night for you! Join the JAYP for a night out learning (or brushing up your skills) how to master your gambling skills. Blackjack\, roulette\, and craps will be taught by a Harrah&#39\;s Casino Professional.&nbsp\;</span></span>
LOCATION:Harrah's Joliet Casino & Hotel Tahoe Room 151 N. Joliet Street
UID:e.2207.4811
SEQUENCE:3
DTSTAMP:20260424T080945Z
URL:http://members.jolietchamber.com/events/details/2018-jayp-casino-tutorial-night-4811
END:VEVENT

END:VCALENDAR
