BEGIN:VCALENDAR
VERSION:2.0
PRODID:-//ChamberMaster//Event Calendar 2.0//EN
METHOD:PUBLISH
X-PUBLISHED-TTL:P3D
REFRESH-INTERVAL:P3D
CALSCALE:GREGORIAN
BEGIN:VEVENT
DTSTART:20191022T223000Z
DTEND:20191023T013000Z
X-MICROSOFT-CDO-ALLDAYEVENT:FALSE
SUMMARY:2019 AABA 2nd Annual Celebration Dinner Oct 22
DESCRIPTION:2nd Annual Celebration\n\n \n\nTuesday\, October 22nd\n\nJoliet Golf Club\n\n1009 Spencer Road | Joliet\n\n$35\n\n5:30 Cocktails\n\n6:30 Dinner and Awards\n\n \n\nSpecial Guest Speaker - Chris Parker\n\nBusiness of the Year Award - Carter Realty Group\n\nNew Business of the Year Award - Popus Gourmet Popcorn\n\nTrailblazer Award - Meade Accounting and Wealth Management\n\n\n\nSponsorships are available as well
X-ALT-DESC;FMTTYPE=text/html:<div class="text-container galileo-ap-content-editor">\n<div>\n<div><span style="font-size: 14px\; color: rgb(76\, 76\, 76)\; font-family: Tahoma\, Geneva\, sans-serif\;">2nd Annual Celebration</span></div>\n\n<div>&nbsp\;</div>\n\n<div><span style="font-size: 14px\; color: rgb(76\, 76\, 76)\; font-family: Tahoma\, Geneva\, sans-serif\;">Tuesday\, October 22nd</span></div>\n\n<div><font color="#4c4c4c" face="Tahoma\, Geneva\, sans-serif"><span style="font-size: 14px\;">Joliet Golf Club<br />\n1009 Spencer Road | Joliet</span></font></div>\n\n<div><span style="font-size: 14px\; color: rgb(76\, 76\, 76)\; font-family: Tahoma\, Geneva\, sans-serif\;">$35</span></div>\n\n<div><span style="font-size: 14px\; color: rgb(76\, 76\, 76)\; font-family: Tahoma\, Geneva\, sans-serif\;">5:30 Cocktails</span></div>\n\n<div><span style="font-size: 14px\; color: rgb(76\, 76\, 76)\; font-family: Tahoma\, Geneva\, sans-serif\;">6:30 Dinner and Awards</span></div>\n\n<div>&nbsp\;</div>\n\n<div><span style="font-size: 14px\; color: rgb(76\, 76\, 76)\; font-family: Tahoma\, Geneva\, sans-serif\;">Special Guest Speaker - Chris Parker</span></div>\n\n<div><span style="font-size: 14px\; color: rgb(76\, 76\, 76)\; font-family: Tahoma\, Geneva\, sans-serif\;">Business of the Year Award - Carter Realty Group<br />\nNew Business of the Year Award - Popus Gourmet Popcorn<br />\nTrailblazer Award - Meade Accounting and Wealth Management</span></div>\n\n<div><br />\n<span style="font-size: 14px\; color: rgb(76\, 76\, 76)\; font-family: Tahoma\, Geneva\, sans-serif\;">Sponsorships are available as well</span></div>\n\n<div>&nbsp\;</div>\n</div>\n</div>\n
LOCATION:Joliet Golf Club 1009 Spencer Road Joliet\, IL.
UID:e.2207.5697
SEQUENCE:3
DTSTAMP:20260419T215032Z
URL:http://members.jolietchamber.com/events/details/2019-aaba-2nd-annual-celebration-dinner-oct-22-5697
END:VEVENT

END:VCALENDAR
