BEGIN:VCALENDAR
VERSION:2.0
PRODID:-//ChamberMaster//Event Calendar 2.0//EN
METHOD:PUBLISH
X-PUBLISHED-TTL:P3D
REFRESH-INTERVAL:P3D
CALSCALE:GREGORIAN
BEGIN:VEVENT
DTSTART:20191212T230000Z
DTEND:20191213T030000Z
X-MICROSOFT-CDO-ALLDAYEVENT:FALSE
SUMMARY:2019 Annual Holiday Reception
DESCRIPTION:Annual Holiday Reception
X-ALT-DESC;FMTTYPE=text/html:<span style="color: rgb(0\, 0\, 205)\; font-family: verdana\; font-size: 18px\; background-color: rgb(255\, 255\, 255)\;">Annual Holiday Reception</span>
LOCATION:The Victorian Ballroom on the Jacob Henry Mansion Estate 15 South Richards Street Joliet\, IL
UID:e.2207.5587
SEQUENCE:3
DTSTAMP:20260420T045554Z
URL:http://members.jolietchamber.com/events/details/2019-annual-holiday-reception-5587
END:VEVENT

END:VCALENDAR
