BEGIN:VCALENDAR
VERSION:2.0
PRODID:-//ChamberMaster//Event Calendar 2.0//EN
METHOD:PUBLISH
X-PUBLISHED-TTL:P3D
REFRESH-INTERVAL:P3D
CALSCALE:GREGORIAN
BEGIN:VEVENT
DTSTART;VALUE=DATE:20190104
DTEND;VALUE=DATE:20190105
TRANSP:TRANSPARENT
X-MICROSOFT-CDO-ALLDAYEVENT:TRUE
SUMMARY:2019 Breakfast Luncheon Sponsor
DESCRIPTION:
X-ALT-DESC;FMTTYPE=text/html:
LOCATION:
UID:e.2207.5092
SEQUENCE:3
DTSTAMP:20260424T011909Z
URL:http://members.jolietchamber.com/events/details/2019-breakfast-luncheon-sponsor-5092
END:VEVENT

END:VCALENDAR
