BEGIN:VCALENDAR
VERSION:2.0
PRODID:-//ChamberMaster//Event Calendar 2.0//EN
METHOD:PUBLISH
X-PUBLISHED-TTL:P3D
REFRESH-INTERVAL:P3D
CALSCALE:GREGORIAN
BEGIN:VEVENT
DTSTART:20190502T164500Z
DTEND:20190502T180000Z
X-MICROSOFT-CDO-ALLDAYEVENT:FALSE
SUMMARY:2019 CWW Lunch May 2nd
DESCRIPTION:Join the Council for Working Women for our May Membership Luncheon.  We are asking for your participation! We would love to hear from YOU about why YOU are a member and share why YOU believe the Council for Working Women is valuable.  Please bring a guest or two so potential new members can learn first-hand the benefits of being a CWW member.
X-ALT-DESC;FMTTYPE=text/html:<span style="color: rgb(0\, 0\, 205)\;"><span style="font-size: 16px\;"><span style="font-family: Verdana\, sans-serif\;">Join the&nbsp\;<strong>Council for Working Women</strong>&nbsp\;for our May Membership Luncheon.&nbsp\; We are asking for your participation! We would love to hear from YOU about why&nbsp\;</span><span style="font-family: Verdana\, sans-serif\;">YOU&nbsp\;are a&nbsp\;member&nbsp\;and share why&nbsp\;YOU&nbsp\;believe the Council for Working Women is valuable.&nbsp\; Please bring a guest or two so potential new members can learn first-hand the benefits of being a CWW member.</span></span></span>
LOCATION:Harrah's Joliet Casino & Hotel 151 N. Joliet Street Joliet\, IL 60432
UID:e.2207.5110
SEQUENCE:3
DTSTAMP:20260425T234600Z
URL:http://members.jolietchamber.com/events/details/2019-cww-lunch-may-2nd-5110
END:VEVENT

END:VCALENDAR
