BEGIN:VCALENDAR
VERSION:2.0
PRODID:-//ChamberMaster//Event Calendar 2.0//EN
METHOD:PUBLISH
X-PUBLISHED-TTL:P3D
REFRESH-INTERVAL:P3D
CALSCALE:GREGORIAN
BEGIN:VEVENT
DTSTART:20190418T230000Z
DTEND:20190419T003000Z
X-MICROSOFT-CDO-ALLDAYEVENT:FALSE
SUMMARY:2019 JAYP Professional Development: Toastmasters
DESCRIPTION:Join the Joliet Area Young Professionals for a night of Professional Development on Thursday\, April 18th. In this public speaking workshop guests will learn to organize their thoughts\, improve communication skills\, build social connections\, accelerate career growth\, inspire others and more!
X-ALT-DESC;FMTTYPE=text/html:<span style="font-family: verdana\;"><span style="font-size: 16px\;">Join the <strong>Joliet Area Young Professionals</strong> for a night of Professional Development on Thursday\, April 18th. In this public speaking workshop guests will learn to organize their thoughts\, improve communication skills\, build social connections\, accelerate career growth\, inspire others and more!&nbsp\;</span></span>
LOCATION:MyGrain Brewing Company 50 E. Jefferson Street Joliet\, IL 60432
UID:e.2207.5219
SEQUENCE:3
DTSTAMP:20260421T112327Z
URL:http://members.jolietchamber.com/events/details/2019-jayp-professional-development-toastmasters-5219
END:VEVENT

END:VCALENDAR
