BEGIN:VCALENDAR
VERSION:2.0
PRODID:-//ChamberMaster//Event Calendar 2.0//EN
METHOD:PUBLISH
X-PUBLISHED-TTL:P3D
REFRESH-INTERVAL:P3D
CALSCALE:GREGORIAN
BEGIN:VEVENT
DTSTART:20190807T123000Z
DTEND:20190807T140000Z
X-MICROSOFT-CDO-ALLDAYEVENT:FALSE
SUMMARY:2019 New Educators Breakfast August 7th
DESCRIPTION:The Joliet Region Chamber of Commerce & Industry cordially invites you to our Annual New Educators' Breakfast.  All new teachers and principals in the Joliet region from public and parochial schools will be introduced to the education and business community.\n\n\n\n*If you are a new teacher you must fill out form or call in your reservation.\n\n\n\nEvent Sponsorships Available:\n\n\n\nSponsors receive a table in the room to set up and display materials for the New Educators.\n\nSponsorship includes one ticket for breakfast.\n\nFee is $250.00
X-ALT-DESC;FMTTYPE=text/html:<span style="color: rgb(0\, 0\, 255)\;"><span style="font-family: verdana\;">The Joliet Region Chamber of Commerce &amp\; Industry cordially invites you to our Annual New Educators&#39\; Breakfast.&nbsp\; All new teachers and principals in the Joliet region from public and parochial schools will be introduced to the education and business community.</span></span><br />\n<br />\n<strong><span style="color: rgb(0\, 0\, 0)\;"><span style="font-size: 14px\;">*If you are a new teacher you must fill out form or call in your reservation.</span></span></strong><br />\n<br />\n<span style="color: rgb(255\, 0\, 0)\;">Event Sponsorships Available:<br />\n<br />\nSponsors receive a table in the room to set up and display materials for the New Educators.<br />\nSponsorship includes one ticket for breakfast.<br />\nFee is $250.00</span>
LOCATION:Harrah's Joliet Casino & Hotel 151 N. Joliet Street Joliet\, IL 60432
UID:e.2207.5616
SEQUENCE:3
DTSTAMP:20260422T031422Z
URL:http://members.jolietchamber.com/events/details/2019-new-educators-breakfast-august-7th-5616
END:VEVENT

END:VCALENDAR
