BEGIN:VCALENDAR
VERSION:2.0
PRODID:-//ChamberMaster//Event Calendar 2.0//EN
METHOD:PUBLISH
X-PUBLISHED-TTL:P3D
REFRESH-INTERVAL:P3D
CALSCALE:GREGORIAN
BEGIN:VEVENT
DTSTART:20190508T160000Z
DTEND:20190509T010000Z
X-MICROSOFT-CDO-ALLDAYEVENT:FALSE
SUMMARY:2019 Springfield Drive-Down May 8th
DESCRIPTION:The Joliet Region Chamber of Commerce & Industry\, along with their Legislative Committee\, invite you to attend the Springfield Drive-Down on May 8th. Our Drive-Down will begin with a luncheon\, followed by a briefing\, legislative meetings\, reception and dinner. The cost is $145.00 per person\, which includes everything EXCEPT YOUR HOTEL RESERVATION. You are responsible for making your hotel reservations if you wish to stay overnight.\n\n\n\nThe Government Affairs Committee has decided they would like to stay downtown this year. The two popular hotels available are Wyndham City Center\, 700 East Adams (217)-789-1530 and Abraham Lincoln Hotel\, 701 East Adams (217)-544-8800. We are not asking for a block\, as the online prices are the same on various sites. \n\n\n\nIssues to be covered include: Budget\, Transportation\, Tax Issues\, Education\, Healthcare\, Pensions\, Workers' Comp.\n\n\n\nPreliminary Agenda:\n\n	Meet at Saputo's Restaurant (801 E. Monroe St.) at 11:00 AM for lunch (lunch begins at 11:30 AM)\n	Briefing at 12:00 PM at Restaurant\n	Legislative Meetings at 1:00 PM in State Capitol Building\n	Reception at Maldaner's Restaurant (222 S. 6th Street) at 5:30 PM\n	Dinner at Maldaner's with Legislators at 6:30 PM\n\nRegistration Deadline: April 30th\, 2019. Payment due with registration.
X-ALT-DESC;FMTTYPE=text/html:The <strong>Joliet Region Chamber of Commerce &amp\; Industry</strong>\, along with their <strong>Legislative Committee</strong>\, invite you to attend the Springfield Drive-Down on May 8th. Our Drive-Down will begin with a luncheon\, followed by a briefing\, legislative meetings\, reception and dinner. The cost is $145.00 per person\, which includes everything <u>EXCEPT YOUR HOTEL RESERVATION</u>. You are responsible for making your hotel reservations if you wish to stay overnight.<br />\n<br />\nThe Government Affairs Committee has decided they would like to stay downtown this year. The two popular hotels available are Wyndham City Center\, 700 East Adams (217)-789-1530 and Abraham Lincoln Hotel\, 701 East Adams (217)-544-8800. We are not asking for a block\, as the online prices are the same on various sites.&nbsp\;<br />\n<br />\nIssues to be covered include: Budget\, Transportation\, Tax Issues\, Education\, Healthcare\, Pensions\, Workers&#39\; Comp.<br />\n<br />\n<strong>Preliminary Agenda:</strong>\n<ul>\n	<li>Meet at Saputo&#39\;s Restaurant (801 E. Monroe St.) at 11:00 AM for lunch (lunch begins at 11:30 AM)</li>\n	<li>Briefing at 12:00 PM at&nbsp\;Restaurant</li>\n	<li>Legislative Meetings at 1:00 PM in State Capitol Building</li>\n	<li>Reception at Maldaner&#39\;s Restaurant (222 S. 6th Street)&nbsp\;at 5:30 PM</li>\n	<li>Dinner at Maldaner&#39\;s with Legislators at 6:30 PM</li>\n</ul>\nRegistration Deadline: April 30th\, 2019. Payment due with registration.&nbsp\;
LOCATION:Springfield\, IL. - all are responsible for transportation. Call Mike at 815.727.5373 for arrangements if needed.
UID:e.2207.5198
SEQUENCE:3
DTSTAMP:20260420T111956Z
URL:http://members.jolietchamber.com/events/details/2019-springfield-drive-down-may-8th-5198
END:VEVENT

END:VCALENDAR
