BEGIN:VCALENDAR
VERSION:2.0
PRODID:-//ChamberMaster//Event Calendar 2.0//EN
METHOD:PUBLISH
X-PUBLISHED-TTL:P3D
REFRESH-INTERVAL:P3D
CALSCALE:GREGORIAN
BEGIN:VEVENT
DTSTART:20260205T174500Z
DTEND:20260205T190000Z
X-MICROSOFT-CDO-ALLDAYEVENT:FALSE
SUMMARY:2026 CWW Lunch February 5 - Women's Heart Health Month
DESCRIPTION:Topic: Women's Heart Health\n\n\n\nJoin the Council for Working Women for an informative discussion focused on women's heart health. This event will explore the key differences between female and male heart care\, including symptoms\, diagnosis\, and treatment approaches. Attendees will gain valuable insight into how heart health uniquely impacts women and the importance of tailored care and prevention strategies.\n\n\n\nSpeaker: Brandy Underhill\, MBA\, BS\, RT(R)(ARRT)\n\n\n\nBrandy Underhill is the Manager of Interventional Labs and Cardiac Diagnostics at Silver Cross Hospital\, where she leads a team of more than 70 professionals across two locations. With over 18 years of experience in radiology and interventional procedures and 15 years in progressive leadership roles Brandy has developed deep expertise in cardiac catheterization\, endovascular neurology\, and interventional radiology.\n\n\n\nShe is passionate about advancing patient care through process improvement\, staff development\, and innovative strategies that enhance outcomes and experiences. Brandy holds an MBA in Healthcare Administration and a BS in Management from the University of St. Francis\, along with multiple clinical certifications. Her commitment to education and advocacy extends to empowering women to take charge of their heart health\, making her a dynamic voice during National Heart Month.\n\n\n\nFebruary Give Back\n\nCatholic Charities: Daybreak Center\n\nItems needed:\n\n	New underwear\, socks and coats\n	Unopened new hygiene products\n	Gift cards to Target/Walmart $25 denominations
X-ALT-DESC;FMTTYPE=text/html:<span style="font-size:16px\;"><strong><span style="font-family:arial\;"><span style="color:#000000\;">Topic:&nbsp\;</span></span></strong>Women&#39\;s Heart Health</span><br />\n<br />\nJoin the Council for Working Women for an informative discussion focused on women&rsquo\;s heart health. This event will explore the key differences between female and male heart care\, including symptoms\, diagnosis\, and treatment approaches. Attendees will gain valuable insight into how heart health uniquely impacts women and the importance of tailored care and prevention strategies.<br />\n<br />\n<span style="font-size:16px\;"><span style="font-family:arial\;"><span style="color:#000000\;"><strong>Speaker:</strong> Brandy Underhill\, MBA\, BS\, RT(R)(ARRT)</span></span></span><br />\n<br />\nBrandy Underhill is the Manager of Interventional Labs and Cardiac Diagnostics at Silver Cross Hospital\, where she leads a team of more than 70 professionals across two locations. With over 18 years of experience in radiology and interventional procedures&mdash\;and 15 years in progressive leadership roles&mdash\;Brandy has developed deep expertise in cardiac catheterization\, endovascular neurology\, and interventional radiology.<br />\n<br />\nShe is passionate about advancing patient care through process improvement\, staff development\, and innovative strategies that enhance outcomes and experiences. Brandy holds an MBA in Healthcare Administration and a BS in Management from the University of St. Francis\, along with multiple clinical certifications. Her commitment to education and advocacy extends to empowering women to take charge of their heart health\, making her a dynamic voice during National Heart Month.<br />\n<br />\n<span style="color:#800080\;"><strong><u>February Give Back</u></strong><br />\n<em>Catholic Charities: Daybreak Center</em><br />\n<em>Items needed:</em></span>\n<ul>\n	<li><span style="color:#800080\;"><em>New underwear\, socks and coats</em></span></li>\n	<li><span style="color:#800080\;"><em>Unopened new hygiene products</em></span></li>\n	<li><span style="color:#800080\;"><em>Gift cards to Target/Walmart $25 denominations</em></span></li>\n</ul>\n
LOCATION:Jacob Henry Mansion 15 S Richards St\, Joliet\, IL\, 60433
UID:e.2207.7778
SEQUENCE:3
DTSTAMP:20260424T062204Z
URL:http://members.jolietchamber.com/events/details/2026-cww-lunch-february-5-women-s-heart-health-month-7778
END:VEVENT

END:VCALENDAR
