BEGIN:VCALENDAR
VERSION:2.0
PRODID:-//ChamberMaster//Event Calendar 2.0//EN
METHOD:PUBLISH
X-PUBLISHED-TTL:P3D
REFRESH-INTERVAL:P3D
CALSCALE:GREGORIAN
BEGIN:VEVENT
DTSTART:20180818T200000Z
DTEND:20180819T020000Z
X-MICROSOFT-CDO-ALLDAYEVENT:FALSE
SUMMARY:Blues & Brews on 66
DESCRIPTION:Don't miss our third year of this exciting festival that embraces the history of blues in Joliet. Blues & Brews on 66 combines a blues fest with a craft beer fest. This fun filled night will again feature live entertainment by multiple blues artists\, cold brews\, and food vendors.\n\nAdmission to the blues fest is FREE!! There is a cost for the craft beer tasting VIP area   more info will be released soon.
X-ALT-DESC;FMTTYPE=text/html:<p>Don&rsquo\;t miss our third year of this exciting festival that embraces the history of blues&nbsp\;in Joliet. Blues &amp\; Brews on 66&nbsp\;combines a blues fest with a craft beer&nbsp\;fest. This fun filled night will again feature live entertainment by multiple blues artists\, cold brews\, and food vendors.</p>\n\n<p>Admission to the blues fest is FREE!! There is a cost for the craft beer tasting VIP area &ndash\; more info will be released soon.</p>\n
LOCATION:Van Buren Plaza and Chicago Street in Downtown Joliet
UID:e.2207.4523
SEQUENCE:3
DTSTAMP:20260425T190320Z
URL:http://members.jolietchamber.com/events/details/blues-brews-on-66-4523
END:VEVENT

END:VCALENDAR
