BEGIN:VCALENDAR
VERSION:2.0
PRODID:-//ChamberMaster//Event Calendar 2.0//EN
METHOD:PUBLISH
X-PUBLISHED-TTL:P3D
REFRESH-INTERVAL:P3D
CALSCALE:GREGORIAN
BEGIN:VEVENT
DTSTART:20190410T200000Z
DTEND:20190410T210000Z
X-MICROSOFT-CDO-ALLDAYEVENT:FALSE
SUMMARY:Business Roundtable
DESCRIPTION:Join the Joliet Chamber for our monthly Business Roundtable meeting on the 2nd Wednesday of each month at the Black Road Branch of the Joliet Public Library beginning at 3:00 PM. RSVP's are encouraged but are not mandatory\, walk in's are welcome!
X-ALT-DESC;FMTTYPE=text/html:<span style="font-size: 16px\;">Join the Joliet Chamber for our monthly&nbsp\;</span><strong style="font-size: 16px\;">Business Roundtable</strong><span style="font-size: 16px\;">&nbsp\;meeting on the 2nd Wednesday of each month at the Black Road Branch of the Joliet Public Library beginning at 3:00 PM. RSVP&#39\;s are encouraged but are not mandatory\, walk in&#39\;s are welcome!</span>
LOCATION:Joliet Public Library - Black Road Branch 3395 Black Road\, Joliet IL 60431
UID:e.2207.5222
SEQUENCE:3
DTSTAMP:20260424T110747Z
URL:http://members.jolietchamber.com/events/details/business-roundtable-5222
END:VEVENT

END:VCALENDAR
