BEGIN:VCALENDAR
VERSION:2.0
PRODID:-//ChamberMaster//Event Calendar 2.0//EN
METHOD:PUBLISH
X-PUBLISHED-TTL:P3D
REFRESH-INTERVAL:P3D
CALSCALE:GREGORIAN
BEGIN:VEVENT
DTSTART:20180104T160000Z
DTEND:20190105T180000Z
X-MICROSOFT-CDO-ALLDAYEVENT:FALSE
SUMMARY:C3 Martial Arts Classes
DESCRIPTION:C3 is a martial arts\, self-defense class for those ages 7 and up. We have a kids Taekwondo class Saturday mornings at 10 am\, and following at 11 am there is a teen/adult Combat Hapkido class. Thursday evening is an all ages class at 6 pm. We believe in not only teaching self-defense\, we believe in teaching inner strength\, responsibility\, respect\, and self-control. The founder and instructor. Sam Murphy\, has over 15 years of experience\, and he holds a second-degree black belt in Taekwondo and Combat Hapkido. He is a certified instructor by the Independent Combat Hapkido Federation. Come try your first two classes for free!
X-ALT-DESC;FMTTYPE=text/html:C3 is a martial arts\, self-defense class for those ages 7 and up. We have a kids Taekwondo class Saturday mornings at 10 am\, and following at 11 am there is a teen/adult Combat Hapkido class. Thursday evening is an all ages class at 6 pm. We believe in not only teaching self-defense\, we believe in teaching inner strength\, responsibility\, respect\, and self-control. The founder and instructor. Sam Murphy\, has over 15 years of experience\, and he holds a second-degree black belt in Taekwondo and Combat Hapkido. He is a certified instructor by the Independent Combat Hapkido Federation. Come try your first two classes for free!
LOCATION:Judson Memorial Church Campus 2800 Black Rd. Joliet\, IL
UID:e.2207.4028
SEQUENCE:3
DTSTAMP:20260423T132341Z
URL:http://members.jolietchamber.com/events/details/c3-martial-arts-classes-4028
END:VEVENT

END:VCALENDAR
