BEGIN:VCALENDAR
VERSION:2.0
PRODID:-//ChamberMaster//Event Calendar 2.0//EN
METHOD:PUBLISH
X-PUBLISHED-TTL:P3D
REFRESH-INTERVAL:P3D
CALSCALE:GREGORIAN
BEGIN:VEVENT
DTSTART:20260404T150000Z
DTEND:20260404T180000Z
X-MICROSOFT-CDO-ALLDAYEVENT:FALSE
SUMMARY:Community Carnival – Free Family Event!
DESCRIPTION:Join us for a fun and free Community Carnival at Christ Community Church in Joliet! Bring the whole family for a morning filled with games\, activities\, prizes\, food\, and plenty of smiles. Kids will love our exciting Reverse Egg Hunt\, carnival games\, and other family-friendly fun.\n\nThis event is completely free and open to everyone in the community. Our goal is simply to create a place where families can gather\, kids can play\, and neighbors can connect.\n\nSaturday\, April 4\n\n10:00 AM   1:00 PM\n\n1516 Edgerton Dr\, Joliet\, IL 60435\n\nCome enjoy a great time with your family\, we'd love to see you there!
X-ALT-DESC;FMTTYPE=text/html:<p>Join us for a <strong>fun and free Community Carnival</strong> at Christ Community Church in Joliet! Bring the whole family for a morning filled with games\, activities\, prizes\, food\, and plenty of smiles. Kids will love our exciting <strong>Reverse Egg Hunt</strong>\, carnival games\, and other family-friendly fun.</p>\n\n<p>This event is completely <strong>free and open to everyone in the community</strong>. Our goal is simply to create a place where families can gather\, kids can play\, and neighbors can connect.</p>\n\n<p><strong>Saturday\, April 4<br />\n10:00 AM &ndash\; 1:00 PM<br />\n1516 Edgerton Dr\, Joliet\, IL 60435</strong></p>\n\n<p>Come enjoy a great time with your family\, we&rsquo\;d love to see you there!</p>\n
LOCATION:1516 Edgerton Dr\, Joliet\, IL 60435
UID:e.2207.7798
SEQUENCE:3
DTSTAMP:20260423T053624Z
URL:http://members.jolietchamber.com/events/details/community-carnival-free-family-event-7798
END:VEVENT

END:VCALENDAR
