BEGIN:VCALENDAR
VERSION:2.0
PRODID:-//ChamberMaster//Event Calendar 2.0//EN
METHOD:PUBLISH
X-PUBLISHED-TTL:P3D
REFRESH-INTERVAL:P3D
CALSCALE:GREGORIAN
BEGIN:VEVENT
DTSTART:20181025T160000Z
DTEND:20181025T170000Z
X-MICROSOFT-CDO-ALLDAYEVENT:FALSE
SUMMARY:D.A.'s Deli & Dining
DESCRIPTION:D.A.'s Deli & Dining Ribbon Cutting\n\nCelebrate the Joliet grand opening of D.A.'s Deli & Dining on Thursday\, October 25th with a ribbon cutting ceremony at 11:00 a.m. then stay to enjoy BUY ONE\, GET ONE FREE DINNER.\n\n\n\nThe grand opening celebration will continue all weekend with other great specials including:\n\n	Friday\, October 26th: ALL YOU CAN EAT FISH FRY from 11 a.m. - 9 p.m.\n	Saturday\, October 27th: KIDS EAT FREE from 11 a.m. - 9 p.m.
X-ALT-DESC;FMTTYPE=text/html:<span style="color: rgb(0\, 0\, 205)\;"><span style="font-family: verdana\;"><span style="font-size: 18px\;"><u>D.A.&#39\;s Deli &amp\; Dining Ribbon Cutting</u></span><br />\nCelebrate the Joliet grand opening of D.A.&#39\;s Deli &amp\; Dining on Thursday\, October 25th with a ribbon cutting ceremony at 11:00 a.m. then stay to enjoy BUY ONE\, GET ONE FREE DINNER.<br />\n<br />\nThe grand opening celebration will continue all weekend with other great specials including:</span></span>\n<ul>\n	<li><span style="color: rgb(0\, 0\, 205)\;"><span style="font-family: verdana\;">Friday\, October 26th: ALL YOU CAN EAT FISH FRY from 11 a.m. - 9 p.m.</span></span></li>\n	<li><span style="color: rgb(0\, 0\, 205)\;"><span style="font-family: verdana\;">Saturday\, October 27th: KIDS EAT FREE from 11 a.m. - 9 p.m.</span></span></li>\n</ul>\n
LOCATION:D.A.'s Deli & Dinig 2777 Black Rd. Joliet\, IL 60435
UID:e.2207.5061
SEQUENCE:3
DTSTAMP:20260424T224613Z
URL:http://members.jolietchamber.com/events/details/d-a-s-deli-dining-5061
END:VEVENT

END:VCALENDAR
