BEGIN:VCALENDAR
VERSION:2.0
PRODID:-//ChamberMaster//Event Calendar 2.0//EN
METHOD:PUBLISH
X-PUBLISHED-TTL:P3D
REFRESH-INTERVAL:P3D
CALSCALE:GREGORIAN
BEGIN:VEVENT
DTSTART:20260404T150000Z
DTEND:20260404T190000Z
X-MICROSOFT-CDO-ALLDAYEVENT:FALSE
SUMMARY:Easter Free Food from Jesus Public Giveaway
DESCRIPTION:Hands of Hope of Illinois will be hosting its annual Easter Free Food from Jesus Public Giveaway on Saturday April 4\, 2026 from 10am-2pm. No registration or sign up required. Open to all.
X-ALT-DESC;FMTTYPE=text/html:Hands of Hope of Illinois will be hosting its annual Easter Free Food from Jesus Public Giveaway on Saturday April 4\, 2026 from 10am-2pm. No registration or sign up required. Open to all.&nbsp\;
LOCATION:511 Oakleaf Ct. Joliet\, IL 60436
UID:e.2207.7797
SEQUENCE:3
DTSTAMP:20260423T055615Z
URL:http://members.jolietchamber.com/events/details/easter-free-food-from-jesus-public-giveaway-7797
END:VEVENT

END:VCALENDAR
