BEGIN:VCALENDAR
VERSION:2.0
PRODID:-//ChamberMaster//Event Calendar 2.0//EN
METHOD:PUBLISH
X-PUBLISHED-TTL:P3D
REFRESH-INTERVAL:P3D
CALSCALE:GREGORIAN
BEGIN:VEVENT
DTSTART:20180717T223000Z
DTEND:20180718T000000Z
X-MICROSOFT-CDO-ALLDAYEVENT:FALSE
SUMMARY:Financial Management
DESCRIPTION:Strategize Wealth Management Group\n\n	The eight issues that impact families and individuals\, from a financial standpoint.\n	Gain statistics regarding these issues.\n	Determine what practical solutions are with finances.\n	Learn how an investment advisor can help.
X-ALT-DESC;FMTTYPE=text/html:Strategize Wealth Management Group\n<ul>\n	<li>The eight issues that impact families and individuals\, from a financial standpoint.</li>\n	<li>Gain statistics regarding these issues.</li>\n	<li>Determine what practical solutions are with finances.</li>\n	<li>Learn how an investment advisor can help.</li>\n</ul>\n
LOCATION:Hope Covenant Church 14401 West Ave Orland Park\, IL 60462
UID:e.2207.4788
SEQUENCE:3
DTSTAMP:20260425T211654Z
URL:http://members.jolietchamber.com/events/details/financial-management-4788
END:VEVENT

END:VCALENDAR
