BEGIN:VCALENDAR
VERSION:2.0
PRODID:-//ChamberMaster//Event Calendar 2.0//EN
METHOD:PUBLISH
X-PUBLISHED-TTL:P3D
REFRESH-INTERVAL:P3D
CALSCALE:GREGORIAN
BEGIN:VEVENT
DTSTART:20181020T200000Z
DTEND:20181020T230000Z
X-MICROSOFT-CDO-ALLDAYEVENT:FALSE
SUMMARY:FREE Workshop
DESCRIPTION:Becoming Unstuck: Your simple step by step guide to take charge of your Life\n\nat this\n\nFree 3 hour Workshop\n\nOctober 20\, 2018 at 3:00 p.m.\n\nSpace is limited to the first 50 people.\n\nHosted by Dr. Hyong\, Ph.D.\n\n\n	Ph.D. in hypnotherapy\n	M.S. in economics\n	Certified NLP Trainer\n\n\n    This coaching program is designed with one purpose in mind\; to take you from where you are in life to where you want to be. We teach easy to implement "Success Habits" for your daily routine.\n\n    This program is about replacing those things that are not serving your future with success habits designed specifically to assist you on your journey to a happier and better you.\n\n    This easy to follow program has simple goal oriented recipes for you to implement in your life to reach the level of wealth\, abundance\, health and happiness you desire.\n\n\n\nWhat will happen if you don't make changes to your life?\n\n \n\nMultiple Topics to be discussed:\n\n  Stop Feeling Stuck      Stress Reduction      Financial Stability      Create New Desirable Habit     \n\n  Stop Living in Your Past       Create A Fulfilling Future       Better Focus      Eliminate Fear      Increase Energy    \n\nand much more!\n\n \n\n$10 Donation for local Humane Society will be collected at Workshop\n\n\n\n \n\nDynamic\, Happiness-Giving Secrets Revealed!\n\nBring a friend for double the fun.\n\n\n\n \n\nRegister TODAY!  (630) 527-8900\n\n1580 W. Ogden Avenue\, Suite 308\, Naperville\, IL 60540
X-ALT-DESC;FMTTYPE=text/html:<p><strong>Becoming Unstuck:&nbsp\;</strong>Your simple step by step guide to take charge of your Life</p>\n\n<p>at this</p>\n\n<p>Free 3 hour Workshop</p>\n\n<p>October 20\, 2018 at 3:00 p.m.</p>\n\n<p>Space is limited to the first 50 people.</p>\n\n<p><strong>Hosted by Dr. Hyong\, Ph.D.</strong></p>\n\n<ul>\n	<li>Ph.D. in hypnotherapy</li>\n	<li>M.S. in economics</li>\n	<li>Certified NLP Trainer</li>\n</ul>\n\n<p>&nbsp\;&nbsp\; &nbsp\;This coaching program is designed with one purpose in mind\; to take you from where you are in life to where you want to be. We teach easy to implement &ldquo\;Success Habits&rdquo\; for your daily routine.</p>\n\n<p>&nbsp\;&nbsp\; &nbsp\;This program is about replacing those things that are not serving <em>your</em> future with success habits designed specifically to assist you on your journey to a happier and better you.</p>\n\n<p>&nbsp\;&nbsp\; &nbsp\;This easy to follow program has simple goal oriented recipes for you to implement in your life to reach the level of wealth\, abundance\, health and happiness you desire.<br />\n<br />\n<em><strong>What will happen if you don&rsquo\;t make changes to your life?</strong></em><br />\n&nbsp\;</p>\n\n<p>Multiple Topics to be discussed:</p>\n\n<p>&bull\; Stop Feeling Stuck&nbsp\;&nbsp\; &nbsp\;&bull\; Stress Reduction&nbsp\;&nbsp\; &nbsp\;&bull\; Financial Stability&nbsp\; &nbsp\; &bull\; Create New Desirable Habit &nbsp\;&nbsp\; &nbsp\;<br />\n&bull\; Stop Living in Your Past &nbsp\;&nbsp\; &nbsp\;&bull\; Create A Fulfilling Future &nbsp\;&nbsp\; &nbsp\;&bull\; Better Focus&nbsp\;&nbsp\; &nbsp\;&bull\; Eliminate Fear&nbsp\;&nbsp\; &nbsp\;&bull\; Increase Energy&nbsp\; &nbsp\;&nbsp\;</p>\n\n<p>and much more!<br />\n&nbsp\;</p>\n\n<p><strong>$10 Donation&nbsp\;for local Humane Society will be collected at Workshop</strong><br />\n<br />\n&nbsp\;</p>\n\n<p><em>Dynamic\, Happiness-Giving Secrets Revealed!</em></p>\n\n<p><strong>Bring a friend for double the fun.</strong><br />\n<br />\n&nbsp\;</p>\n\n<p><strong>Register TODAY!</strong><strong>&nbsp\; (630) 527-8900</strong></p>\n\n<p>1580 W. Ogden Avenue\, Suite 308\, Naperville\, IL 60540</p>\n
LOCATION:1580 W. Odgen AVenue\, Suite 308\, Naperville\, IL 60540
UID:e.2207.5041
SEQUENCE:3
DTSTAMP:20260424T055120Z
URL:http://members.jolietchamber.com/events/details/free-workshop-5041
END:VEVENT

END:VCALENDAR
