BEGIN:VCALENDAR
VERSION:2.0
PRODID:-//ChamberMaster//Event Calendar 2.0//EN
METHOD:PUBLISH
X-PUBLISHED-TTL:P3D
REFRESH-INTERVAL:P3D
CALSCALE:GREGORIAN
BEGIN:VEVENT
DTSTART:20181011T223000Z
DTEND:20181012T000000Z
X-MICROSOFT-CDO-ALLDAYEVENT:FALSE
SUMMARY:JAYP Networking Night
DESCRIPTION:Meet new people and expand relationships with the Joliet Area Young Professionals.
X-ALT-DESC;FMTTYPE=text/html:<span style="font-family: Verdana\, Arial\, Helvetica\, sans-serif\;">Meet new people and expand relationships with the Joliet Area Young Professionals.&nbsp\;</span>
LOCATION:MyGrain Brewery 50 E. Jefferson Street\, Suite 106 Joliet\, IL 60432 815-345-3339
UID:e.2207.4467
SEQUENCE:3
DTSTAMP:20260424T141514Z
URL:http://members.jolietchamber.com/events/details/jayp-networking-night-4467
END:VEVENT

END:VCALENDAR
