BEGIN:VCALENDAR
VERSION:2.0
PRODID:-//ChamberMaster//Event Calendar 2.0//EN
METHOD:PUBLISH
X-PUBLISHED-TTL:P3D
REFRESH-INTERVAL:P3D
CALSCALE:GREGORIAN
BEGIN:VEVENT
DTSTART:20180804T150000Z
DTEND:20180804T200000Z
X-MICROSOFT-CDO-ALLDAYEVENT:FALSE
SUMMARY:Kidzfest
DESCRIPTION:Presented by Lewis University\n\nAll FREE - All for KIDS!\n\nThere's SO MUCH to see and do- All FREE- All for KIDS! Come check it out!\n\nKidzfest is held on the first Saturday of August from 10am until 3pm each year. The event includes many types of interactive\, educational and fun activities sponsored by a variety of vendors\, i.e. Lewis University Kids Campus\, Joliet Park District\, Rialto Square Theatre\, the Library\, the Forest Preserve District and numerous other vendors planning special activities for kids. Food and entertainment.
X-ALT-DESC;FMTTYPE=text/html:<p>Presented by Lewis University<br />\nAll FREE - All for KIDS!</p>\n\n<p>There&rsquo\;s SO MUCH to see and do- All FREE- All for KIDS! Come check it out!<br />\nKidzfest is held on the first Saturday of August from 10am until 3pm each year. The event includes many types of interactive\, educational and fun activities sponsored by a variety of vendors\, i.e. Lewis University Kids Campus\, Joliet Park District\, Rialto Square Theatre\, the Library\, the Forest Preserve District and numerous other vendors planning special activities for kids. Food and entertainment.</p>\n
LOCATION:All along Chicago Street in Downtown Joliet
UID:e.2207.4525
SEQUENCE:3
DTSTAMP:20260425T115708Z
URL:http://members.jolietchamber.com/events/details/kidzfest-4525
END:VEVENT

END:VCALENDAR
