BEGIN:VCALENDAR
VERSION:2.0
PRODID:-//ChamberMaster//Event Calendar 2.0//EN
METHOD:PUBLISH
X-PUBLISHED-TTL:P3D
REFRESH-INTERVAL:P3D
CALSCALE:GREGORIAN
BEGIN:VEVENT
DTSTART:20190302T000000Z
DTEND:20190302T040000Z
X-MICROSOFT-CDO-ALLDAYEVENT:FALSE
SUMMARY:Mardi Gras Madness
DESCRIPTION:Let the Good Times Roll\n\n\n\nEveryone is invited to join Breast Intentions of Illinois at Mardi Gras Madness for an evening of decadence while helping those suffering with the devastating effects of breast cancer. \n\n\n\nEnjoy music by Nova Soul\, photobooth\, appetizers\, cash bar\, raffles and spilt the pot!  Casual attire required.\n\n\n\nFor sponsorship opportunities\, contact Lou Ann Peck by emailing louann@breastintentions.org.  For more information visit\, www.breastintentionsil.org. \n\n\n\n100% of the net proceeds provide crisis intervention for those who are facing financial hardship as they battle breast cancer.  Breast Intentions of IL is a 501(c)3 not-for-profit organization.  Tx ID # 47-1906084
X-ALT-DESC;FMTTYPE=text/html:<span style="font-size: 14px\;"><span style="font-family: verdana\;"><span style="color: rgb(0\, 0\, 205)\;"><span style="font-size: 18px\;"><em><strong>Let the Good Times Roll</strong></em></span><br />\n<br />\nEveryone is invited to join Breast Intentions of Illinois at <em>Mardi Gras Madness </em>for an evening of decadence while helping those suffering with the devastating effects of breast cancer.&nbsp\;<br />\n<br />\nEnjoy music by Nova Soul\, photobooth\, appetizers\, cash bar\, raffles and spilt the pot!&nbsp\; Casual attire required.<br />\n<br />\nFor sponsorship opportunities\, contact Lou Ann Peck by emailing </span><a href="mailto:louann@breastintentions.org"><span style="color: rgb(0\, 0\, 205)\;">louann@breastintentions.org</span></a><span style="color: rgb(0\, 0\, 205)\;">.&nbsp\; For more information visit\, </span><a href="http://www.breastintentionsil.org"><span style="color: rgb(0\, 0\, 205)\;">www.breastintentionsil.org</span></a><span style="color: rgb(0\, 0\, 205)\;">.&nbsp\;<br />\n<br />\n100% of the net proceeds provide crisis intervention for those who are facing financial hardship as they battle breast cancer.&nbsp\; Breast Intentions of IL is a 501(c)3 not-for-profit organization.&nbsp\; Tx ID # 47-1906084</span></span></span>
LOCATION:The Victorian Ballroom on the Jacob Henry Mansion Estate 15 South Richards St. Joliet\, IL
UID:e.2207.5036
SEQUENCE:3
DTSTAMP:20260424T102436Z
URL:http://members.jolietchamber.com/events/details/mardi-gras-madness-5036
END:VEVENT

END:VCALENDAR
