BEGIN:VCALENDAR
VERSION:2.0
PRODID:-//ChamberMaster//Event Calendar 2.0//EN
METHOD:PUBLISH
X-PUBLISHED-TTL:P3D
REFRESH-INTERVAL:P3D
CALSCALE:GREGORIAN
BEGIN:VEVENT
DTSTART:20180819T130000Z
DTEND:20180819T210000Z
X-MICROSOFT-CDO-ALLDAYEVENT:FALSE
SUMMARY:Stuff The Bus Back to School Bash
DESCRIPTION:All About U Barber Lounge is hosting our 2nd Annual Back to School Bash! Latoya Medina and her awesome staff will be providing free haircuts and braids for school age children. Also\, All About U Barber Lounge is having a backpack giveaway. This event will be lots of fun with musicians\, snow cones\, food and so much more!!! AAUBL is gratefully accepting donations for supplies!! We are looking to reach as many children as possible. We can't wait to see everyone at our Back to School Bash!!
X-ALT-DESC;FMTTYPE=text/html:All About U Barber Lounge is hosting our 2nd Annual Back to School Bash! Latoya Medina and her awesome staff will be providing free haircuts and braids for school age children. Also\, All About U Barber Lounge is having a backpack giveaway. This event will be lots of fun with musicians\, snow cones\, food and so much more!!! AAUBL is gratefully accepting donations for supplies!! We are looking to reach as many children as possible. We can&#39\;t wait to see everyone at our Back to School Bash!!&nbsp\;
LOCATION:1107 W. Jefferson St. Joliet\, IL. 60435
UID:e.2207.4805
SEQUENCE:3
DTSTAMP:20260425T163124Z
URL:http://members.jolietchamber.com/events/details/stuff-the-bus-back-to-school-bash-4805
END:VEVENT

END:VCALENDAR
