BEGIN:VCALENDAR
VERSION:2.0
PRODID:-//ChamberMaster//Event Calendar 2.0//EN
METHOD:PUBLISH
X-PUBLISHED-TTL:P3D
REFRESH-INTERVAL:P3D
CALSCALE:GREGORIAN
BEGIN:VEVENT
DTSTART:20190927T003000Z
DTEND:20190927T050000Z
X-MICROSOFT-CDO-ALLDAYEVENT:FALSE
SUMMARY:Trails After Dark
DESCRIPTION:It's time for the big kids to play! Join us for Trails After Dark\, our exclusive 21 and over event on Thursday\, September 26th from 7:30   Midnight. Have a beer! Dominate your friends in laser tag\, show them who's fast and furious on the go-karts and enjoy everything Haunted Trails has to offer! Your experience includes $20 in Game Play plus UNLIMITED Rides and Attractions All Night long! We've got you covered with food and drink specials. Advance tickets are available for $25 each (for a limited time) at Eventbrite.com. Tickets are $35 at the door. Visit www.hauntedtrailsjoliet.com for details! (This is a 21 and over event. Ticket holders must have their government photo ID to show proof of age to enter.)
X-ALT-DESC;FMTTYPE=text/html:It&rsquo\;s time for the big kids to play! Join us for Trails After Dark\, our exclusive 21 and over event on Thursday\, September 26th from 7:30 &ndash\; Midnight. Have a beer! Dominate your friends in laser tag\, show them who&rsquo\;s fast and furious on the go-karts and enjoy everything Haunted Trails has to offer! Your experience includes $20 in Game Play plus UNLIMITED Rides and Attractions All Night long! We&rsquo\;ve got you covered with food and drink specials. Advance tickets are available for $25 each (for a limited time) at Eventbrite.com. Tickets are $35 at the door. Visit www.hauntedtrailsjoliet.com for details! (This is a 21 and over event. Ticket holders must have their government photo ID to show proof of age to enter.)
LOCATION:Haunted Trails Family Entertainment Center & Picnics 1423 N. Broadway St. (Rt. 53) Joliet\, IL. 60435
UID:e.2207.5641
SEQUENCE:3
DTSTAMP:20260424T110806Z
URL:http://members.jolietchamber.com/events/details/trails-after-dark-5641
END:VEVENT

END:VCALENDAR
