BEGIN:VCALENDAR
VERSION:2.0
PRODID:-//ChamberMaster//Event Calendar 2.0//EN
METHOD:PUBLISH
X-PUBLISHED-TTL:P3D
REFRESH-INTERVAL:P3D
CALSCALE:GREGORIAN
BEGIN:VEVENT
DTSTART;VALUE=DATE:20181026
DTEND;VALUE=DATE:20181029
TRANSP:TRANSPARENT
X-MICROSOFT-CDO-ALLDAYEVENT:TRUE
SUMMARY:UKC NOSEWORK TRIAL
DESCRIPTION:Join us Friday\, Saturday and Sunday for a United Kennel Club Nosework Trial.  Dog will compete for titles by completing required elements.  \n\nFriday's fun will be Containers beginning at 2pm with the Novice level proceeding through the Elite level.\n\nSaturday will be Exteriors and Vehicles beginning at 8am with the Novice level proceeding through the Elite level.\n\nSunday will showcase the dogs working towards their champion and grand champion titles with the full Master and full Elite Trials beginning at 8am.
X-ALT-DESC;FMTTYPE=text/html:Join us Friday\, Saturday and Sunday for a United Kennel Club Nosework Trial.&nbsp\; Dog will compete for titles by completing required elements.&nbsp\;&nbsp\;<br />\nFriday&#39\;s fun will be Containers beginning at 2pm with the Novice level proceeding through the Elite level.<br />\nSaturday will be Exteriors and Vehicles beginning at 8am with&nbsp\;the Novice level proceeding through the Elite level.<br />\nSunday will showcase the dogs working towards their champion and grand champion titles with the full Master and full Elite Trials beginning at 8am.&nbsp\;
LOCATION:Francis Field Youth Foundation in New Lenox\, IL
UID:e.2207.5060
SEQUENCE:3
DTSTAMP:20260424T081420Z
URL:http://members.jolietchamber.com/events/details/ukc-nosework-trial-5060
END:VEVENT

END:VCALENDAR
