BEGIN:VCALENDAR
VERSION:2.0
PRODID:-//ChamberMaster//Event Calendar 2.0//EN
METHOD:PUBLISH
X-PUBLISHED-TTL:P3D
REFRESH-INTERVAL:P3D
CALSCALE:GREGORIAN
BEGIN:VEVENT
DTSTART;VALUE=DATE:20260219
DTEND;VALUE=DATE:20260220
TRANSP:TRANSPARENT
X-MICROSOFT-CDO-ALLDAYEVENT:TRUE
SUMMARY:You’re Invited: Sculptra® Lunch & Learn — Feb 19 at Noon at Absolute Integrated Health
DESCRIPTION:We're excited to invite you to a special Sculptra  Lunch & Learn at AIH Aesthetics & Wellness   a relaxed\, educational event where you'll enjoy lunch while learning about one of the most natural and long-lasting ways to rejuvenate your skin.\n\n			 \n\n			Thursday\, February 19\, 2026\n\n			12:00 PM\n\n			AIH Aesthetics & Wellness\n\n			16310 S Lincoln Hwy #132\n\n			Plainfield\, IL 60586\n\n			 \n\n			What is Sculptra ?\n\n			Sculptra  is an FDA-approved injectable that works by stimulating your body's natural collagen production. Instead of simply "filling\," it helps restore volume and improve skin quality gradually   delivering results that look natural and last longer.\n\n			At this intimate Lunch & Learn\, we'll cover:\n\n			\n				\n				How Sculptra  works\n				\n				\n				Who it's best for\n				\n				\n				What results to expect\n				\n				\n				Why it's a favorite for natural\, long-term rejuvenation\n				\n			\n\n			You'll also have the chance to ask questions and connect with our expert aesthetic team.\n\n			 \n\n			What's included?\n\n			A complimentary lunch\n\n			Expert education\n\n			A $25 deposit to reserve your seat   applied toward any treatment or medspa service\n\n			 \n\n			Space is limited\, so we recommend reserving your spot soon.\n\n			 \n\n			Save your seat here:\n\n			https://www.offer-absoluteintegratedhealth.com/galderma-event\n\n			 \n\n			We look forward to seeing you and helping you discover how Sculptra  can support your aesthetic goals.\n			\n			\n		\n		\n			\n			\n			Warmly\,\n\n			AIH Aesthetics & Wellness\n\n			815-999-2677
X-ALT-DESC;FMTTYPE=text/html:<table border="0" cellpadding="0" cellspacing="0" style="border-collapse:collapse\; color:rgb(0\, 0\, 0)\; font-family:times new roman\; font-size:0px\; vertical-align:top\; width:100%">\n	<tbody>\n		<tr>\n			<td>\n			<div>\n			<p><span style="font-size:16px">We&rsquo\;re excited to invite you to a special&nbsp\;<strong>Sculptra&reg\; Lunch &amp\; Learn</strong>&nbsp\;at&nbsp\;<strong>AIH Aesthetics &amp\; Wellness</strong>&nbsp\;&mdash\; a relaxed\, educational event where you&rsquo\;ll enjoy lunch while learning about one of the most natural and long-lasting ways to rejuvenate your skin.</span></p>\n\n			<p>&nbsp\;</p>\n\n			<p><span style="font-size:16px"><strong>Thursday\, February 19\, 2026</strong><br />\n			<strong>12:00 PM</strong><br />\n			<strong>AIH Aesthetics &amp\; Wellness</strong><br />\n			16310 S Lincoln Hwy #132<br />\n			Plainfield\, IL 60586</span></p>\n\n			<p>&nbsp\;</p>\n\n			<p><span style="font-size:16px"><strong>What is Sculptra&reg\;?</strong></span></p>\n\n			<p><span style="font-size:16px">Sculptra&reg\; is an FDA-approved injectable that works by stimulating your body&rsquo\;s natural collagen production. Instead of simply &ldquo\;filling\,&rdquo\; it helps restore volume and improve skin quality gradually &mdash\; delivering results that look natural and last longer.</span></p>\n\n			<p><span style="font-size:16px">At this intimate Lunch &amp\; Learn\, we&rsquo\;ll cover:</span></p>\n\n			<ul>\n				<li>\n				<p><span style="font-size:16px">How Sculptra&reg\; works</span></p>\n				</li>\n				<li>\n				<p><span style="font-size:16px">Who it&rsquo\;s best for</span></p>\n				</li>\n				<li>\n				<p><span style="font-size:16px">What results to expect</span></p>\n				</li>\n				<li>\n				<p><span style="font-size:16px">Why it&rsquo\;s a favorite for natural\, long-term rejuvenation</span></p>\n				</li>\n			</ul>\n\n			<p><span style="font-size:16px">You&rsquo\;ll also have the chance to ask questions and connect with our expert aesthetic team.</span></p>\n\n			<p>&nbsp\;</p>\n\n			<p><span style="font-size:16px"><strong>What&rsquo\;s included?</strong></span></p>\n\n			<p><span style="font-size:16px">A complimentary lunch<br />\n			Expert education<br />\n			A $25 deposit to reserve your seat &mdash\;&nbsp\;<strong>applied toward any treatment or medspa service</strong></span></p>\n\n			<p>&nbsp\;</p>\n\n			<p><span style="font-size:16px">Space is limited\, so we recommend reserving your spot soon.</span></p>\n\n			<p>&nbsp\;</p>\n\n			<p><span style="font-size:16px"><strong>Save your seat here:</strong></span><br />\n			<a href="https://link.msgsndr.com/email-tracking/c0f8265323b?contactId={{contact.id}}&amp\;utm_source=email&amp\;utm_medium=email%20marketing&amp\;utm_campaign=You%E2%80%99re%20Invited%3A%20Sculptra%C2%AE%20Lunch%20%26%20Learn%20%E2%80%94%20Feb%2019%20at%20Noon" rel="noopener noreferrer nofollow" style="font-weight: inherit\; font-style: inherit\; color: inherit !important\; text-decoration-color: inherit !important\;" target="_blank"><span style="color:inherit\; font-size:16px">https://www.offer-absoluteintegratedhealth.com/galderma-event</span></a></p>\n\n			<p>&nbsp\;</p>\n\n			<p><span style="font-size:16px">We look forward to seeing you and helping you discover how Sculptra&reg\; can support your aesthetic goals.</span></p>\n			</div>\n			</td>\n		</tr>\n		<tr>\n			<td>\n			<div>\n			<p><span style="font-size:16px">Warmly\,<br />\n			<strong>AIH Aesthetics &amp\; Wellness</strong><br />\n			815-999-2677</span></p>\n			</div>\n			</td>\n		</tr>\n	</tbody>\n</table>\n
LOCATION:AIH Aesthetics & Wellness 16310 S Lincoln Hwy #132 Plainfield\, IL 60586
UID:e.2207.7793
SEQUENCE:3
DTSTAMP:20260424T044818Z
URL:http://members.jolietchamber.com/events/details/you-re-invited-sculptra-lunch-learn-feb-19-at-noon-at-absolute-integrated-health-7793
END:VEVENT

END:VCALENDAR
