BEGIN:VCALENDAR
VERSION:2.0
PRODID:-//ChamberMaster//Event Calendar 2.0//EN
METHOD:PUBLISH
X-PUBLISHED-TTL:P3D
REFRESH-INTERVAL:P3D
CALSCALE:GREGORIAN
BEGIN:VEVENT
DTSTART:20260321T143000Z
DTEND:20260321T160000Z
X-MICROSOFT-CDO-ALLDAYEVENT:FALSE
SUMMARY:Women's Health Expo
DESCRIPTION:Senator Meg Loughran Cappel\, Will County Executive Jennifer Bertino-Tarrant\, Representative Natalie Manley and Leader Dagmara Avelar are sponsoring a Women's Health Expo. There will be professional speakers from Silver Cross Hospital and Will County Health Department to discuss the many stages of women's health in addition to how nutrition can affect those stages as well as several vendors present.
X-ALT-DESC;FMTTYPE=text/html:Senator Meg Loughran Cappel\, Will County Executive Jennifer Bertino-Tarrant\, Representative Natalie Manley and Leader Dagmara Avelar are sponsoring a Women&#39\;s Health Expo. There will be professional speakers from Silver Cross Hospital and Will County Health Department to discuss the many stages of women&#39\;s health in addition to how nutrition can affect those stages as well as several vendors present.
LOCATION:C.W. Avery Family YMCA\, 15120 Wallin Dr\, Plainfield\, IL\, 60544
UID:e.2207.7796
SEQUENCE:3
DTSTAMP:20260422T123000Z
URL:https://members.jolietchamber.com/events/details/women-s-health-expo-7796
END:VEVENT

END:VCALENDAR
